BEGIN:VCALENDAR
VERSION:2.0
PRODID:-//Squarespace Inc/Squarespace 6//v6//EN
BEGIN:VEVENT
UID:5457df71e4b00889b2df1121@squarespace.com
DTSTAMP:20141125T041515Z
DTSTART:20150115T183000Z
DTEND:20150118T033000Z
SUMMARY:IRONMAN - "Prepare to Perform" - TRAINING CAMP
END:VEVENT
END:VCALENDAR
