BEGIN:VCALENDAR
VERSION:2.0
PRODID:-//Squarespace Inc/Squarespace 6//v6//EN
BEGIN:VEVENT
UID:55a74166e4b0a6012078d90c@squarespace.com
DTSTAMP:20150716T060214Z
DTSTART:20150725T200000Z
DTEND:20150726T020000Z
SUMMARY:Wairarapa Womens100
GEO:-41.217608;175.458767
LOCATION:The Village Cafe\, 8 Kitchener St\, Martinborough\, Wellington\, 5
 711\, New Zealand
END:VEVENT
END:VCALENDAR
